BEGIN:VCALENDAR
VERSION:2.0
PRODID:spatie/icalendar-generator
DESCRIPTION:Veranstaltungen von Herzlich Willkommen in der Gemeinde Neuhaus
  a.Inn
X-WR-CALDESC:Veranstaltungen von Herzlich Willkommen in der Gemeinde Neuhau
 s a.Inn
REFRESH-INTERVAL;VALUE=DURATION:PT1440M
X-PUBLISHED-TTL:PT1440M
BEGIN:VTIMEZONE
TZID:Etc/GMT+0
BEGIN:STANDARD
DTSTART:20250916T000000Z
TZOFFSETFROM:+0000
TZOFFSETTO:+0000
END:STANDARD
END:VTIMEZONE
BEGIN:VTIMEZONE
TZID:UTC
BEGIN:STANDARD
DTSTART:20250725T084919Z
TZOFFSETFROM:+0000
TZOFFSETTO:+0000
END:STANDARD
END:VTIMEZONE
BEGIN:VEVENT
UID:10-10
DTSTAMP:20260421T084919Z
SUMMARY:Sommerfest der Freiwilligen Feuerwehr Neuhaus a.Inn
LOCATION:Feuerwehrhaus Neuhaus a.Inn Klosterstr. 1 A  Neuhaus a.Inn  94152
ORGANIZER;CN=xh-neuhaus:MAILTO:uf@imsotec.com
DTSTART;TZID=Etc/GMT+0;VALUE=DATE:20260613
DTEND;TZID=Etc/GMT+0;VALUE=DATE:20260614
X-ALT-DESC;FMTTYPE=TEXT/HTML:
CATEGORIES:Feierlichkeiten,  Vereine
URL;VALUE=URI:https://www.neuhaus-inn.de/mc-events/sommerfest-der-freiwilli
 gen-feuerwehr-neuhaus-a-inn/
METHOD:PUBLISH
END:VEVENT
END:VCALENDAR