BEGIN:VCALENDAR
VERSION:2.0
PRODID:spatie/icalendar-generator
DESCRIPTION:Veranstaltungen von Herzlich Willkommen in der Gemeinde Neuhaus
  a.Inn
X-WR-CALDESC:Veranstaltungen von Herzlich Willkommen in der Gemeinde Neuhau
 s a.Inn
REFRESH-INTERVAL;VALUE=DURATION:PT1440M
X-PUBLISHED-TTL:PT1440M
BEGIN:VTIMEZONE
TZID:Etc/GMT+0
BEGIN:STANDARD
DTSTART:20250705T140000Z
TZOFFSETFROM:+0000
TZOFFSETTO:+0000
END:STANDARD
END:VTIMEZONE
BEGIN:VTIMEZONE
TZID:UTC
BEGIN:STANDARD
DTSTART:20250726T091116Z
TZOFFSETFROM:+0000
TZOFFSETTO:+0000
END:STANDARD
END:VTIMEZONE
BEGIN:VEVENT
UID:24-23
DTSTAMP:20260422T091116Z
SUMMARY:Seniorentreff im Wohnstift Innblick
LOCATION:Wohnstift Innblick Am Klosterhof 2  Neuhaus a.Inn  94152
ORGANIZER;CN=xh-neuhaus:MAILTO:uf@imsotec.com
DTSTART;TZID=Etc/GMT+0:20260401T140000
DTEND;TZID=Etc/GMT+0:20260401T150000
X-ALT-DESC;FMTTYPE=TEXT/HTML:
CATEGORIES:Feierlichkeiten
URL;VALUE=URI:https://www.neuhaus-inn.de/mc-events/seniorentreff-im-wohnsti
 ft-innblick/
METHOD:PUBLISH
END:VEVENT
END:VCALENDAR