BEGIN:VCALENDAR
VERSION:2.0
PRODID:spatie/icalendar-generator
DESCRIPTION:Veranstaltungen von Herzlich Willkommen in der Gemeinde Neuhaus
  a.Inn
X-WR-CALDESC:Veranstaltungen von Herzlich Willkommen in der Gemeinde Neuhau
 s a.Inn
REFRESH-INTERVAL;VALUE=DURATION:PT1440M
X-PUBLISHED-TTL:PT1440M
BEGIN:VTIMEZONE
TZID:Etc/GMT+0
BEGIN:STANDARD
DTSTART:20250721T190000Z
TZOFFSETFROM:+0000
TZOFFSETTO:+0000
END:STANDARD
END:VTIMEZONE
BEGIN:VTIMEZONE
TZID:UTC
BEGIN:STANDARD
DTSTART:20250724T144000Z
TZOFFSETFROM:+0000
TZOFFSETTO:+0000
END:STANDARD
END:VTIMEZONE
BEGIN:VEVENT
UID:28-27
DTSTAMP:20260420T144000Z
SUMMARY:Mitgliederversammlung des Gartenbauverein Vornbach im Gasthaus Resc
 h
LOCATION:Gasthaus Resch Abt-Rumpler-Str. 10  Neuhaus a.Inn\, Vornbach  9415
 2
ORGANIZER;CN=xh-neuhaus:MAILTO:uf@imsotec.com
DTSTART;TZID=Etc/GMT+0:20260417T190000
DTEND;TZID=Etc/GMT+0:20260417T200000
X-ALT-DESC;FMTTYPE=TEXT/HTML:
CATEGORIES:Feierlichkeiten
URL;VALUE=URI:https://www.neuhaus-inn.de/mc-events/mitgliederversammlung-de
 s-gartenbauverein-vornbach-im-gasthaus-resch/
METHOD:PUBLISH
END:VEVENT
END:VCALENDAR