BEGIN:VCALENDAR
VERSION:2.0
PRODID:spatie/icalendar-generator
DESCRIPTION:Veranstaltungen von Herzlich Willkommen in der Gemeinde Neuhaus
  a.Inn
X-WR-CALDESC:Veranstaltungen von Herzlich Willkommen in der Gemeinde Neuhau
 s a.Inn
REFRESH-INTERVAL;VALUE=DURATION:PT1440M
X-PUBLISHED-TTL:PT1440M
BEGIN:VTIMEZONE
TZID:Etc/GMT+0
BEGIN:STANDARD
DTSTART:20250819T080000Z
TZOFFSETFROM:+0000
TZOFFSETTO:+0000
END:STANDARD
END:VTIMEZONE
BEGIN:VTIMEZONE
TZID:UTC
BEGIN:STANDARD
DTSTART:20250725T083633Z
TZOFFSETFROM:+0000
TZOFFSETTO:+0000
END:STANDARD
END:VTIMEZONE
BEGIN:VEVENT
UID:35-34
DTSTAMP:20260421T083633Z
SUMMARY:Flohmarkt an der Innlände
LOCATION:Festplatz an der Innlände Innlände  Neuhaus a.Inn  94152
ORGANIZER;CN=xh-neuhaus:MAILTO:uf@imsotec.com
DTSTART;TZID=Etc/GMT+0:20260516T080000
DTEND;TZID=Etc/GMT+0:20260516T130000
X-ALT-DESC;FMTTYPE=TEXT/HTML:Weitere Informationen unter www.sc-neuhaus-inn
 .de
CATEGORIES:Feierlichkeiten
URL;VALUE=URI:https://www.neuhaus-inn.de/mc-events/flohmarkt-an-der-innlaen
 de-4/
METHOD:PUBLISH
END:VEVENT
END:VCALENDAR